BEGIN:VCALENDAR
VERSION:2.0
PRODID:-//Plone.org//NONSGML plone.app.event//EN
X-WR-TIMEZONE:Europe/Madrid
BEGIN:VEVENT
SUMMARY:16th International Human Resource Management Conference
DTSTART;VALUE=DATE:20200602
DTEND;VALUE=DATE:20200606
DTSTAMP:20260419T155950Z
UID:9f60abd72a0f456ca6edb24f65ade8ab@genwebv4.upc.edu
CONTACT:http://www.ihrm2020.org/
CREATED:20191222T194855Z
LAST-MODIFIED:20191222T194900Z
LOCATION:Paris\, França
URL:https://techtalent-lab.upc.edu/ca/esdeveniments/16th-international-hum
 an-resource-management-conference
END:VEVENT
END:VCALENDAR
