BEGIN:VCALENDAR
VERSION:2.0
PRODID:-//Plone.org//NONSGML plone.app.event//EN
X-WR-TIMEZONE:Europe/Madrid
BEGIN:VEVENT
SUMMARY:80th Annual Meeting of the Academy of Management
DTSTART;VALUE=DATE:20200807
DTEND;VALUE=DATE:20200812
DTSTAMP:20260419T141829Z
UID:c9e5704a675f4470bb7e6aab1f22eb6a@genwebv4.upc.edu
CONTACT:http://aom.org/annualmeeting/theme/
CREATED:20191120T102006Z
LAST-MODIFIED:20191222T194659Z
LOCATION:Vancouver\, British Columbia\, Canada
URL:https://techtalent-lab.upc.edu/ca/esdeveniments/esdeveniment-de-mostra
END:VEVENT
BEGIN:VEVENT
SUMMARY:9th EIASM Workshop on Talent Management
DTSTART;VALUE=DATE:20201010
DTEND;VALUE=DATE:20201012
DTSTAMP:20260419T141829Z
UID:aa7aaffd746d4e8abdf2a2eb84a5f0dc@genwebv4.upc.edu
CONTACT:http://www.eiasm.org/frontoffice/event_announcement.asp?event_id=1
 455
CREATED:20191222T194523Z
LAST-MODIFIED:20191222T194530Z
LOCATION:Cork\, Irlanda
URL:https://techtalent-lab.upc.edu/ca/esdeveniments/9th-eiasm-workshop-on-
 talent-management
END:VEVENT
BEGIN:VEVENT
SUMMARY:XXX Congreso ACEDE: "Organizaciones 4.0: Sostenibilidad y Conocimi
 ento"
DTSTART;VALUE=DATE:20200624
DTEND;VALUE=DATE:20200627
DTSTAMP:20260419T141829Z
UID:4070feaf0fcf479686153b17fc35ddfa@genwebv4.upc.edu
CONTACT:https://www.congresoacede.org
CREATED:20191222T194759Z
LAST-MODIFIED:20191222T194803Z
LOCATION:Cartegena\, Espanya
URL:https://techtalent-lab.upc.edu/ca/esdeveniments/xxx-congreso-acede-org
 anizaciones-4-0-sostenibilidad-y-conocimiento
END:VEVENT
BEGIN:VEVENT
SUMMARY:16th International Human Resource Management Conference
DTSTART;VALUE=DATE:20200602
DTEND;VALUE=DATE:20200606
DTSTAMP:20260419T141829Z
UID:9f60abd72a0f456ca6edb24f65ade8ab@genwebv4.upc.edu
CONTACT:http://www.ihrm2020.org/
CREATED:20191222T194855Z
LAST-MODIFIED:20191222T194900Z
LOCATION:Paris\, França
URL:https://techtalent-lab.upc.edu/ca/esdeveniments/16th-international-hum
 an-resource-management-conference
END:VEVENT
BEGIN:VEVENT
SUMMARY:2020 PhD Day in Management
DTSTART;VALUE=DATE:20201111
DTEND;VALUE=DATE:20201112
DTSTAMP:20260419T141829Z
UID:e68dfc858c2e4a9a82071127341bac7e@techtalent-lab.upc.edu
CONTACT:https://techtalent-lab.upc.edu/en/activities/2020-phd-day
CREATED:20200725T185922Z
LAST-MODIFIED:20200911T174410Z
LOCATION:Online
URL:https://techtalent-lab.upc.edu/ca/esdeveniments/2020-phd-day-in-manage
 ment
END:VEVENT
END:VCALENDAR
