BEGIN:VCALENDAR
VERSION:2.0
PRODID:-//Plone.org//NONSGML plone.app.event//EN
X-WR-TIMEZONE:Europe/Madrid
BEGIN:VEVENT
SUMMARY:80th Annual Meeting of the Academy of Management
DTSTART;VALUE=DATE:20200807
DTEND;VALUE=DATE:20200812
DTSTAMP:20260420T132837Z
UID:c56f82788098482889fb14a0d6fb8bb8@genwebv4.upc.edu
CONTACT:Responsable evento\, adreca@noreply.com\, http://aom.org/annualmee
 ting/theme/
CREATED:20191120T102006Z
LAST-MODIFIED:20191222T192903Z
LOCATION:Vancouver\, British Columbia\, Canada
URL:https://techtalent-lab.upc.edu/es/eventos/evento-de-muestra
END:VEVENT
END:VCALENDAR
